BEGIN:VCALENDAR
VERSION:2.0
PRODID:-//Tarján - ECPv5.5.0.1//NONSGML v1.0//EN
CALSCALE:GREGORIAN
METHOD:PUBLISH
X-WR-CALNAME:Tarján
X-ORIGINAL-URL:http://tarjan.hu
X-WR-CALDESC:Events for Tarján
BEGIN:VTIMEZONE
TZID:UTC
BEGIN:STANDARD
TZOFFSETFROM:+0000
TZOFFSETTO:+0000
TZNAME:UTC
DTSTART:20230101T000000
END:STANDARD
END:VTIMEZONE
BEGIN:VEVENT
DTSTART;TZID=UTC:20231116T183000
DTEND;TZID=UTC:20231116T200000
DTSTAMP:20260422T213247
CREATED:20231103T060340Z
LAST-MODIFIED:20231103T061253Z
UID:5272-1700159400-1700164800@tarjan.hu
SUMMARY:Színház: Csapodár Madár
DESCRIPTION:Novemberben újra színház! November 16-án\, csütörtökön 18:30-tól várunk mindenkit szeretettel a Közösségi házba/Kultúr az Orfeusz társulat Csapodár Madár c. vígjátékára. A darab 16 éven felülieknek ajánlott. \nA belépés ingyenes.  \nGyere velünk színházba! \nA darabról: \n\n\n\n\n\n\nCsapodár Madár\n(Az Orfeusz Társulat Tatabánya előadása)\n\n\n\n\n\n\n\n\n\n\n\n\nRuzante „A Csapodár Madárka” című vígjátéka alapján  \nírta LÁSZLÓ TIBOR \n Szereplők: \nASCANIO\, városi polgár              Pápai Ferenc\nBETÍA\, a felesége                          Monos Kriszta\nMENATO\, falusi ember                Poroszlay Sándor\nTONIN\, bergamói katona            Mészáros Kartal / Hetényi Máté\nSOFRONIA\, utcabeli asszony       Magyar Kata  \nRUZANTE\, a szerző                      László Tibor / Kaszás József\nASSZISZTENS                              Lovas Petra\, Árgyelán Botond R. \nKözreműködik: Zábráczki Hilda\nMaszkok: Nagyváradi Szandra\nMozgás-korrepetitor: Rovó Péter \n Rendező:  UNGVÁRI  ISTVÁN  \nRuzante olasz reneszánsz szerző. Ez a komédiája a magyar színházak ritkán játszott darabja. Korának üde színfoltja\, de az idő kifakította. \nMost született egy átirat – az Orfeusz Társulatra igazítva –\, ahol megmaradt a történet menete\, de teljesen megújult a szövege\, a dialógusai\, bőven megfűszerezve humorral és pikantériával. \nA reneszánsz színház gyakran élt azzal az eszközzel\, hogy a színész – kilépve a szerepéből – beszélt a közönséghez. Ez most úgy újul meg\, hogy a szerző is beszél a közönséghez\, és vitatkozik a színészeivel (színház a színházban)\, belopva ezzel a mindennapjaink és a színházi valóságunk számos furcsaságát\, konvencióját. \n16 éven felülieknek ajánlott!
URL:http://tarjan.hu/esemeny/5272/
LOCATION:Közösségi ház/Kultúr\, Rákóczi F. út 32.\, Tarján\, 2831
CATEGORIES:Szórakozás
ATTACH;FMTTYPE=image/jpeg:http://tarjan.hu/wp-content/uploads/2023/11/csapodar1.jpg
ORGANIZER;CN="Tarj%C3%A1n%20K%C3%B6zs%C3%A9g%20%C3%96nkorm%C3%A1nyzata":MAILTO:kultur@tarjan.hu
END:VEVENT
END:VCALENDAR