BEGIN:VCALENDAR
VERSION:2.0
PRODID:-//Tarján - ECPv5.5.0.1//NONSGML v1.0//EN
CALSCALE:GREGORIAN
METHOD:PUBLISH
X-WR-CALNAME:Tarján
X-ORIGINAL-URL:http://tarjan.hu
X-WR-CALDESC:Events for Tarján
BEGIN:VTIMEZONE
TZID:UTC
BEGIN:STANDARD
TZOFFSETFROM:+0000
TZOFFSETTO:+0000
TZNAME:UTC
DTSTART:20220101T000000
END:STANDARD
END:VTIMEZONE
BEGIN:VEVENT
DTSTART;TZID=UTC:20221205T150000
DTEND;TZID=UTC:20221205T170000
DTSTAMP:20260421T190554
CREATED:20221122T084335Z
LAST-MODIFIED:20221122T132514Z
UID:4110-1670252400-1670259600@tarjan.hu
SUMMARY:Idősek napja
DESCRIPTION:Idősek napja \nTarján Község Önkormányzata szeretettel meghív minden 70 év feletti tarjáni lakost \n2022 december 5-én 15 órától a \nKözösségi Házba (Kultúr) \nhagyományos Idősek Napi rendezvényére. \nA rendezvényen a Tarjáni Német Nemzetiségi Általános Iskola tanulói és a Dalkör műsorral köszöntik a jelenlévőket.
URL:http://tarjan.hu/esemeny/idosek-napja/
LOCATION:Közösségi ház/Kultúr\, Rákóczi F. út 32.\, Tarján\, 2831
CATEGORIES:Hagyományőrzés,Szórakozás
ATTACH;FMTTYPE=image/png:http://tarjan.hu/wp-content/uploads/2022/11/idoseknapja.png
ORGANIZER;CN="Tarj%C3%A1n%20K%C3%B6zs%C3%A9g%20%C3%96nkorm%C3%A1nyzata":MAILTO:kultur@tarjan.hu
END:VEVENT
END:VCALENDAR