BEGIN:VCALENDAR
VERSION:2.0
PRODID:-//Tarján - ECPv5.5.0.1//NONSGML v1.0//EN
CALSCALE:GREGORIAN
METHOD:PUBLISH
X-WR-CALNAME:Tarján
X-ORIGINAL-URL:http://tarjan.hu
X-WR-CALDESC:Events for Tarján
BEGIN:VTIMEZONE
TZID:UTC
BEGIN:STANDARD
TZOFFSETFROM:+0000
TZOFFSETTO:+0000
TZNAME:UTC
DTSTART:20240101T000000
END:STANDARD
END:VTIMEZONE
BEGIN:VEVENT
DTSTART;TZID=UTC:20240506T174500
DTEND;TZID=UTC:20240506T190000
DTSTAMP:20260421T020409
CREATED:20240426T141338Z
LAST-MODIFIED:20240426T141338Z
UID:6017-1715017500-1715022000@tarjan.hu
SUMMARY:ÖNVÉDELMI OKTATÁS TARJÁNBAN
DESCRIPTION:MÁJUS 6-ÁN\, HÉTFŐN\, 17:45-19:00-ig  önvédelmi oktatás Ármin Koltai kempo edzővel\, aki Tatabányán elindította ezt a lehetőséget és azóta is sok hölgynek segít ügyesebbé\, bátrabbá és magabiztosabbá válni.   \nEZ EGYSZERI\, INGYENES LEHETŐSÉG! \nA továbbiakban elképzelhető\, hogy megfelelő létszám esetén Ármin rendszeresen tartana edzéseket. \n 
URL:http://tarjan.hu/esemeny/onvedelmi-oktatas-tarjanban/
LOCATION:Tarján Sportcsarnok\, Rákóczi F. út 15.\, Tarján\, 2831\, Magyarország
CATEGORIES:Önkéntesség,Sport
ATTACH;FMTTYPE=image/jpeg:http://tarjan.hu/wp-content/uploads/2024/04/kempo.jpg
END:VEVENT
END:VCALENDAR