BEGIN:VCALENDAR
VERSION:2.0
PRODID:-//Tarján - ECPv5.5.0.1//NONSGML v1.0//EN
CALSCALE:GREGORIAN
METHOD:PUBLISH
X-WR-CALNAME:Tarján
X-ORIGINAL-URL:http://tarjan.hu
X-WR-CALDESC:Events for Tarján
BEGIN:VTIMEZONE
TZID:UTC
BEGIN:STANDARD
TZOFFSETFROM:+0000
TZOFFSETTO:+0000
TZNAME:UTC
DTSTART:20220101T000000
END:STANDARD
END:VTIMEZONE
BEGIN:VEVENT
DTSTART;TZID=UTC:20220205T190000
DTEND;TZID=UTC:20220205T190000
DTSTAMP:20260421T131255
CREATED:20220108T120918Z
LAST-MODIFIED:20220128T063737Z
UID:2354-1644087600-1644087600@tarjan.hu
SUMMARY:Megyei svábbál / Komitatsschwabenball
DESCRIPTION:A Tarjáni Német Nemzetiségi Önkormányzat és a Komárom-Esztergom Megyei Németek Önkormányzata az aktuális járványhelyzet miatt  úgy határozott\, hogy a 2022. február 5-re tervezett megyei és tarjáni Sváb Bált nem rendezi meg. \nKérem fogadják megértéssel döntésünket\, a jelen helyzetben ez tűnik a legracionálisabb lépésnek. \nA megyei és tarjáni Sváb Bál újabb lehetséges időpontjáról később születik döntés. \nA jegyekkel kapcsolatban kérjük az érintetteket\, keressék \nGrófné Müller Csillát: +36 20 386 0256 \n  \nKEM-i Németek Önkormányzata és Tarjáni Német Nemzetiségi Önkormányzat
URL:http://tarjan.hu/esemeny/megyei-svabbal-komitatsschwabenball/
LOCATION:Tarján Sportcsarnok\, Rákóczi F. út 15.\, Tarján\, 2831\, Magyarország
ATTACH;FMTTYPE=image/jpeg:http://tarjan.hu/wp-content/uploads/2022/01/falutv_lemondas.jpg
END:VEVENT
BEGIN:VEVENT
DTSTART;TZID=UTC:20220206T150000
DTEND;TZID=UTC:20220206T190000
DTSTAMP:20260421T131255
CREATED:20220112T070355Z
LAST-MODIFIED:20220112T070355Z
UID:2361-1644159600-1644174000@tarjan.hu
SUMMARY:Kórustalálkozó/Chortreffen
DESCRIPTION:Kórustalálkozó Tarjánban
URL:http://tarjan.hu/esemeny/korustalalkozo-chortreffen/
LOCATION:Tarján Sportcsarnok\, Rákóczi F. út 15.\, Tarján\, 2831\, Magyarország
CATEGORIES:Hagyományőrzés,Szórakozás,Táncos-zenés rendezvény
ATTACH;FMTTYPE=image/jpeg:http://tarjan.hu/wp-content/uploads/2022/01/dalkor.jpg
END:VEVENT
BEGIN:VEVENT
DTSTART;TZID=UTC:20220211T150000
DTEND;TZID=UTC:20220211T180000
DTSTAMP:20260421T131255
CREATED:20220208T100036Z
LAST-MODIFIED:20220208T100036Z
UID:2436-1644591600-1644602400@tarjan.hu
SUMMARY:VÉRADÁS TARJÁNBAN!
DESCRIPTION:ADJ VÉRT\, ÉS MENTS MEG 3 ÉLETET! \n2022. február 11-én (péntek) 15:00 – 18:00 óra között a közösségi házban.
URL:http://tarjan.hu/esemeny/veradas-tarjanban/
LOCATION:Közösségi Színtér\, Rákóczi F. út 32.\, Tarján\, 2831
ATTACH;FMTTYPE=image/jpeg:http://tarjan.hu/wp-content/uploads/2022/02/veradas.jpg
END:VEVENT
BEGIN:VEVENT
DTSTART;TZID=UTC:20220226T100000
DTEND;TZID=UTC:20220226T120000
DTSTAMP:20260421T131255
CREATED:20220207T092453Z
LAST-MODIFIED:20220207T092531Z
UID:2431-1645869600-1645876800@tarjan.hu
SUMMARY:Gyerekruha és játékbörze
DESCRIPTION:Újra gyerekruha és játékbörze a Közösségi Házban!\nCsinálj helyet otthon tavaszra! Hozd el a gyerkőcök kinőtt cuccait\, megunt játékait és szerezd be nálunk azokat a darabokat\, amikre szükségetek van!\nHa árulni szeretnél\, írj a kultur@tarjan.hu e-mail címre.
URL:http://tarjan.hu/esemeny/gyerekruha-es-jatekborze/
LOCATION:Közösségi Színtér\, Rákóczi F. út 32.\, Tarján\, 2831
ATTACH;FMTTYPE=image/png:http://tarjan.hu/wp-content/uploads/2022/02/gyerekruha.png
END:VEVENT
END:VCALENDAR