BEGIN:VCALENDAR
VERSION:2.0
PRODID:-//Tarján - ECPv5.5.0.1//NONSGML v1.0//EN
CALSCALE:GREGORIAN
METHOD:PUBLISH
X-WR-CALNAME:Tarján
X-ORIGINAL-URL:http://tarjan.hu
X-WR-CALDESC:Events for Tarján
BEGIN:VTIMEZONE
TZID:UTC
BEGIN:STANDARD
TZOFFSETFROM:+0000
TZOFFSETTO:+0000
TZNAME:UTC
DTSTART:20220101T000000
END:STANDARD
END:VTIMEZONE
BEGIN:VEVENT
DTSTART;VALUE=DATE:20220330
DTEND;VALUE=DATE:20220401
DTSTAMP:20260421T101717
CREATED:20220311T093549Z
LAST-MODIFIED:20220311T093549Z
UID:2499-1648598400-1648771199@tarjan.hu
SUMMARY:Sulizsák program
DESCRIPTION:Indul a Sulizsák program!\nBegyűjtés: 2022. március 30-31-én 13-16.30-ig a KRAFTWERK melletti Sportöltözőben\, a gyerekek által hazavitt\, vagy más 60L-es zsákokban!
URL:http://tarjan.hu/esemeny/sulizsak-program/
LOCATION:Tarján Fesztivál Park\, Szent István út\, Tarján\, 2831\, Magyarország
CATEGORIES:Környezetvédelem,Önkéntesség
ATTACH;FMTTYPE=image/jpeg:http://tarjan.hu/wp-content/uploads/2022/03/ruhagyujtes.jpg
ORGANIZER;CN="Tarj%C3%A1ni%20N%C3%A9met%20Nemzetis%C3%A9gi%20%C3%81ltal%C3%A1nos%20Iskola":MAILTO:gs2000@t-online.hu
END:VEVENT
BEGIN:VEVENT
DTSTART;VALUE=DATE:20220411
DTEND;VALUE=DATE:20220412
DTSTAMP:20260421T101717
CREATED:20220411T134425Z
LAST-MODIFIED:20220411T134455Z
UID:2562-1649635200-1649721599@tarjan.hu
SUMMARY:Költészet Napja
DESCRIPTION:Kedves Tarjániak!\n\nMa\, április 11-én a költészet napját ünnepeljük. Ez alkalomból is játékra szeretnénk invitálni Benneteket! Három\, költőkről elnevezett utcánkban találtok az utca nevét adó költőtől egy verset kiplakátolva\, illetve megemlékezünk Mikonya Józsi bácsiról\, a mi sváb költőnkről is\, akinek versét stílszerűen tájházunk előtt találjátok. Mind a négy versben van valami közös\, amely a tavaszhoz is kapcsolódik.\n\nHa figyelemmel elolvassátok őket\, a megfejtés nem lesz nehéz. A plakátokat péntekig estig találjátok meg.\n\nA helyes megfejtők között 4 színházjegyet sorsolunk ki a Jászay Mari Színház egy előadására.\n\nA megfejtéseket a kultur@tarjan.hu- email címre\, vagy az oldal messenger címére küldjétek!\n\n\n\n“A dolgok változnak. A vers örök.” József Attila
URL:http://tarjan.hu/esemeny/kolteszet-napja/
CATEGORIES:Hagyományőrzés,Szórakozás,Tudomány
ATTACH;FMTTYPE=image/jpeg:http://tarjan.hu/wp-content/uploads/2022/04/kolteszet.jpg
END:VEVENT
BEGIN:VEVENT
DTSTART;TZID=UTC:20220417T200000
DTEND;TZID=UTC:20220417T200000
DTSTAMP:20260421T101717
CREATED:20220412T000059Z
LAST-MODIFIED:20220412T061413Z
UID:2485-1650225600-1650225600@tarjan.hu
SUMMARY:Húsvéti locsolóbál
DESCRIPTION:
URL:http://tarjan.hu/esemeny/husveti-locsolobal/
LOCATION:Közösségi Színtér\, Rákóczi F. út 32.\, Tarján\, 2831
CATEGORIES:Hagyományőrzés,Szórakozás,Táncos-zenés rendezvény
ATTACH;FMTTYPE=image/jpeg:http://tarjan.hu/wp-content/uploads/2022/03/locsolo.jpg
END:VEVENT
BEGIN:VEVENT
DTSTART;TZID=UTC:20220423T090000
DTEND;TZID=UTC:20220423T170000
DTSTAMP:20260421T101717
CREATED:20220419T134055Z
LAST-MODIFIED:20220420T072843Z
UID:2556-1650704400-1650733200@tarjan.hu
SUMMARY:Szemétszedési akció
DESCRIPTION:Kedves tarjáni és környékbeli lakosok! \nBizonyára Ti is láthattátok már\, hogy a Tarjánba vezető autóutak mentén felgyülemlett a hulladék\, ezért a Német Nemzetiségi Egyesület\, a Tarjáni Ifjúsági Klub és a Tarjáni Szent Flórián Tűzoltó Egyesület civil kezdeményezést indít a hulladékok összegyűjtésére.\nNagy örömünkre szolgál\, hogy Klinger Tamás polgármester úr és a Magyar Közút Nonprofit Zrt. Is kifejezte támogatását\, biztosítva a zsákokat valamint az összegyűjtött hulladék elszállítását. A Tarjáni Szent Flórián Tűzoltó Egyesület Héreg és Vértestolna tűzoltóinak bevonásával a forgalomirányítást és személyszállítást szervezi a szemétszedés ideje alatt\, biztosítva a zökkenőmentes közlekedést. \nA szemétgyűjtő akciót időpontja: ÁPRILIS 23.\, SZOMBAT\, 9:00 \nTalálkozási pont: Tarján\, Sport pálya parkoló \nKesztyűt\, láthatósági mellényt\, vizet mindenképp hozzatok magatokkal\, mert elsődleges szempont a biztonság!\nMindenkit szeretettel várunk!\nFogjunk össze\, szedjük össze! \nKöszönettel\,\nNémet Nemzetiségi Egyesület\nTarjáni Ifjúsági Klub\nSzent Flórián Tűzoltó Egyesület
URL:http://tarjan.hu/esemeny/szemetszedesi-akcio/
LOCATION:Tarján Fesztivál Park\, Szent István út\, Tarján\, 2831\, Magyarország
CATEGORIES:Környezetvédelem,Önkéntesség,Szórakozás
ATTACH;FMTTYPE=image/jpeg:http://tarjan.hu/wp-content/uploads/2022/04/szemet.jpg
END:VEVENT
BEGIN:VEVENT
DTSTART;TZID=UTC:20220423T093000
DTEND;TZID=UTC:20220424T170000
DTSTAMP:20260421T101717
CREATED:20220421T080038Z
LAST-MODIFIED:20220421T080248Z
UID:2653-1650706200-1650819600@tarjan.hu
SUMMARY:Súlyemelő Iskolás Országos Bajnokság
DESCRIPTION:Kedves Érdeklődők!\n Nagy örömünkre sportcsarnokunk ad otthont a Magyar Súlyemelő Szövetség 2022-es Iskolás Országos Bajnokságának.  \nHa érdekel Benneteket a sportág\, látogassatok el a rendezvényre!
URL:http://tarjan.hu/esemeny/sulyemelo-iskolas-orszagos-bajnoksag/
LOCATION:Tarján Sportcsarnok\, Rákóczi F. út 15.\, Tarján\, 2831\, Magyarország
CATEGORIES:Sport
ATTACH;FMTTYPE=image/png:http://tarjan.hu/wp-content/uploads/2022/04/sulyemelo.png
END:VEVENT
BEGIN:VEVENT
DTSTART;TZID=UTC:20220424T140000
DTEND;TZID=UTC:20220424T140000
DTSTAMP:20260421T101717
CREATED:20220420T073114Z
LAST-MODIFIED:20220420T075736Z
UID:2639-1650808800-1650808800@tarjan.hu
SUMMARY:Mikropódium Családi Bábszínház
DESCRIPTION:Kedves Tarjániak! \nAmint tudjátok\, vasárnap\, 24-én\, katolikus templomunk védőszentjének\, Szent Györgynek napján hagyományosan búcsút tartunk. Azok részére\, akik szeretnének kicsit kiszakadni a vásári forgatagból\, az idei évben önkormányzatunk jóvoltából egy meglepetéssel készülünk. \nMárciusban már köszönthettük Tarjánban a Mikropódium Családi Bábszínházat\, akik két igen bájos előadással örvendeztették meg a közönséget. Vasárnap az “Árnyékok játéka”-val\, egy kifejezetten családokra építő árnyjátékos\, árnybábkészítő programmal érkeznek hozzánk\, melyben a résztvevők azonnal ki is próbálhatják bábjaikat. Sátrukat szintén a Fesztivál Parkban találhatjátok 14-18 óra között. A részvétel ingyenes. Tartalmas időtöltést kívánunk minden családnak! \nBachmann Katalin \nművelődésszervező \nTarján Község Önkormányzata \nTel.: +36 30 898 9332 \nE-mail: kultur@tarjan.hu \nFacebook: kultúr.a.Tarján
URL:http://tarjan.hu/esemeny/mikropodium-csaladi-babszinhaz/
LOCATION:Tarján Fesztivál Park\, Szent István út\, Tarján\, 2831\, Magyarország
CATEGORIES:Hagyományőrzés,Szórakozás
ATTACH;FMTTYPE=image/jpeg:http://tarjan.hu/wp-content/uploads/2022/04/Arnyekok-jateka-0-1.jpg
ORGANIZER;CN="Tarj%C3%A1n%20K%C3%B6zs%C3%A9g%20%C3%96nkorm%C3%A1nyzata":MAILTO:kultur@tarjan.hu
END:VEVENT
BEGIN:VEVENT
DTSTART;TZID=UTC:20220429T180000
DTEND;TZID=UTC:20220429T190000
DTSTAMP:20260421T101717
CREATED:20220424T072734Z
LAST-MODIFIED:20220425T100944Z
UID:2632-1651255200-1651258800@tarjan.hu
SUMMARY:Anyák napi filmvetítés
DESCRIPTION:Kedves Nagymamák\, Anyukák! \nA nőnapi filmvetítés sikerén felbuzdulva szeretnénk Benneteket Anyák napja alkalmából is a virtuális utazás élményével megajándékozni. \nRészvételi szándékotokat jelezzétek a kultur@tarjan.hu email címre\, vagy az oldal messenger címére. \n  \nBachmann Katalin \nművelődésszervező \nTarján Község Önkormányzata \nTel.: +36 30 898 9332 \nE-mail: kultur@tarjan.hu \nFacebook: kultúr.a.Tarján
URL:http://tarjan.hu/esemeny/anyak-napi-filmvetites/
LOCATION:Egyesületek Háza Jókai u. 6\, Jókai út 6.\, Tarján\, 2831
CATEGORIES:Szórakozás
ATTACH;FMTTYPE=image/png:http://tarjan.hu/wp-content/uploads/2022/04/Anyak-napi-filmvetites.png
ORGANIZER;CN="Tarj%C3%A1n%20K%C3%B6zs%C3%A9g%20%C3%96nkorm%C3%A1nyzata":MAILTO:kultur@tarjan.hu
END:VEVENT
BEGIN:VEVENT
DTSTART;TZID=UTC:20220430T090000
DTEND;TZID=UTC:20220430T110000
DTSTAMP:20260421T101717
CREATED:20220425T101931Z
LAST-MODIFIED:20220425T102225Z
UID:2676-1651309200-1651316400@tarjan.hu
SUMMARY:A Baba-mama klub akciója
DESCRIPTION:Fogadjátok szeretettel a Baba-Mama Klub egy remek közösségi kezdeményezését!  \nEgyütt\, közösen\, magunkért\, Tarjánért!
URL:http://tarjan.hu/esemeny/a-baba-mama-klub-akcioja/
LOCATION:Tarján Fesztivál Park\, Szent István út\, Tarján\, 2831\, Magyarország
CATEGORIES:Környezetvédelem,Önkéntesség
ATTACH;FMTTYPE=image/jpeg:http://tarjan.hu/wp-content/uploads/2022/04/babamama.jpg
END:VEVENT
BEGIN:VEVENT
DTSTART;TZID=UTC:20220430T190000
DTEND;TZID=UTC:20220430T190000
DTSTAMP:20260421T101717
CREATED:20220425T100750Z
LAST-MODIFIED:20220425T100907Z
UID:2669-1651345200-1651345200@tarjan.hu
SUMMARY:Déryné program: Tetemre hívás\, zenés összeállítás
DESCRIPTION:Kedves Érdeklődők!\n\n\n\nA Déryné program jóvoltából szombaton újabb nívós előadást köszönthetünk Tarjánban.\nA The Art\, szlovákiai magyar társulat előadásában Arany János műveit hallgathatjuk meg zenés formában Tóth Tibor Jászai Mari-díjas színművész rendezésében és szereplésével.\n\nA belépés ingyenes.\n\nVárunk mindenkit szeretettel!\n\n\nhttps://deryneprogram.hu/eloadasok/tetemrehivas/
URL:http://tarjan.hu/esemeny/2669/
LOCATION:Közösségi Színtér\, Rákóczi F. út 32.\, Tarján\, 2831
CATEGORIES:Szórakozás
ATTACH;FMTTYPE=image/jpeg:http://tarjan.hu/wp-content/uploads/2022/04/deryne.jpg
ORGANIZER;CN="Tarj%C3%A1n%20K%C3%B6zs%C3%A9g%20%C3%96nkorm%C3%A1nyzata":MAILTO:kultur@tarjan.hu
END:VEVENT
END:VCALENDAR