BEGIN:VCALENDAR
VERSION:2.0
PRODID:-//Tarján - ECPv5.5.0.1//NONSGML v1.0//EN
CALSCALE:GREGORIAN
METHOD:PUBLISH
X-WR-CALNAME:Tarján
X-ORIGINAL-URL:http://tarjan.hu
X-WR-CALDESC:Events for Tarján
BEGIN:VTIMEZONE
TZID:UTC
BEGIN:STANDARD
TZOFFSETFROM:+0000
TZOFFSETTO:+0000
TZNAME:UTC
DTSTART:20240101T000000
END:STANDARD
END:VTIMEZONE
BEGIN:VEVENT
DTSTART;TZID=UTC:20240114T094500
DTEND;TZID=UTC:20240114T103000
DTSTAMP:20260419T214813
CREATED:20240110T100228Z
LAST-MODIFIED:20240110T100228Z
UID:5532-1705225500-1705228200@tarjan.hu
SUMMARY:Doni csata évforduló - Megemlékezés
DESCRIPTION:
URL:http://tarjan.hu/esemeny/doni-csata-evfordulo-megemlekezes/
LOCATION:Katolikus Templom\, Rákóczi F. út 12.\, Tarján\, 2831\, Magyarország
CATEGORIES:Hagyományőrzés
ATTACH;FMTTYPE=image/jpeg:http://tarjan.hu/wp-content/uploads/2024/01/doni.jpg
END:VEVENT
BEGIN:VEVENT
DTSTART;TZID=UTC:20240120T180000
DTEND;TZID=UTC:20240120T193000
DTSTAMP:20260419T214813
CREATED:20240110T100443Z
LAST-MODIFIED:20240110T100455Z
UID:5535-1705773600-1705779000@tarjan.hu
SUMMARY:Újévi koncert
DESCRIPTION:A Tarjáni Német Nemzetiségi Önkormányzat szeretettel hív meg minden érdeklődőt 2024 évi Újévi koncertjére
URL:http://tarjan.hu/esemeny/ujevi-koncert-2/
LOCATION:Közösségi ház/Kultúr\, Rákóczi F. út 32.\, Tarján\, 2831
CATEGORIES:Hagyományőrzés,Szórakozás,Táncos-zenés rendezvény
ATTACH;FMTTYPE=image/jpeg:http://tarjan.hu/wp-content/uploads/2024/01/koncert.jpg
END:VEVENT
BEGIN:VEVENT
DTSTART;TZID=UTC:20240122T160000
DTEND;TZID=UTC:20240122T173000
DTSTAMP:20260419T214813
CREATED:20240110T103305Z
LAST-MODIFIED:20240110T103305Z
UID:5559-1705939200-1705944600@tarjan.hu
SUMMARY:Zenés olvasósarok
DESCRIPTION:Kedves mesekedvelő Szülők! Szeretettel várjuk gyerkőceiteket az alábbi remek programra\, jelentkezni a bejegyzés alatt tudtok.
URL:http://tarjan.hu/esemeny/zenes-olvasosarok/
LOCATION:Egyesületek Háza Jókai u. 6\, Jókai út 6.\, Tarján\, 2831
CATEGORIES:Hagyományőrzés,Önkéntesség,Szórakozás
ATTACH;FMTTYPE=image/jpeg:http://tarjan.hu/wp-content/uploads/2024/01/mese.jpg
ORGANIZER;CN="Tarj%C3%A1n%20K%C3%B6zs%C3%A9g%20%C3%96nkorm%C3%A1nyzata":MAILTO:kultur@tarjan.hu
END:VEVENT
BEGIN:VEVENT
DTSTART;TZID=UTC:20240123T150000
DTEND;TZID=UTC:20240123T180000
DTSTAMP:20260419T214813
CREATED:20240122T065355Z
LAST-MODIFIED:20240122T065530Z
UID:5603-1706022000-1706032800@tarjan.hu
SUMMARY:VÉRADÁS TARJÁNBAN!
DESCRIPTION:2024. január 23-án (kedd) 15:00 – 18:00 óra között a közösségi házban.
URL:http://tarjan.hu/esemeny/veradas-tarjanban-3/
LOCATION:Közösségi ház/Kultúr\, Rákóczi F. út 32.\, Tarján\, 2831
CATEGORIES:Önkéntesség,Tudomány
ATTACH;FMTTYPE=image/jpeg:http://tarjan.hu/wp-content/uploads/2024/01/veradas.jpg
END:VEVENT
BEGIN:VEVENT
DTSTART;TZID=UTC:20240130T170000
DTEND;TZID=UTC:20240130T180000
DTSTAMP:20260419T214813
CREATED:20240129T150950Z
LAST-MODIFIED:20240129T161525Z
UID:5625-1706634000-1706637600@tarjan.hu
SUMMARY:Ökumenikus istentisztelet
DESCRIPTION:Ökumenikus istentisztelet a Tarjáni Református Templomban január 30-án kedden 17:00-kor. \nIgét hirdet: Szabó Zoltán katolikus plébános
URL:http://tarjan.hu/esemeny/okumenikus-istentisztelet/
LOCATION:Református templom\, Rákóczi F. út 61.\, Tarján\, 2831
CATEGORIES:Önkéntesség
ATTACH;FMTTYPE=image/jpeg:http://tarjan.hu/wp-content/uploads/2024/01/istentisztelet.jpg
ORGANIZER;CN="Tarj%C3%A1ni%20Reform%C3%A1tus%20Egyh%C3%A1zk%C3%B6zs%C3%A9g":MAILTO:bakajg@gmail.com
END:VEVENT
END:VCALENDAR