BEGIN:VCALENDAR
VERSION:2.0
PRODID:-//Tarján - ECPv5.5.0.1//NONSGML v1.0//EN
CALSCALE:GREGORIAN
METHOD:PUBLISH
X-WR-CALNAME:Tarján
X-ORIGINAL-URL:http://tarjan.hu
X-WR-CALDESC:Events for Tarján
BEGIN:VTIMEZONE
TZID:UTC
BEGIN:STANDARD
TZOFFSETFROM:+0000
TZOFFSETTO:+0000
TZNAME:UTC
DTSTART:20240101T000000
END:STANDARD
END:VTIMEZONE
BEGIN:VEVENT
DTSTART;TZID=UTC:20240130T170000
DTEND;TZID=UTC:20240130T180000
DTSTAMP:20260419T200410
CREATED:20240129T150950Z
LAST-MODIFIED:20240129T161525Z
UID:5625-1706634000-1706637600@tarjan.hu
SUMMARY:Ökumenikus istentisztelet
DESCRIPTION:Ökumenikus istentisztelet a Tarjáni Református Templomban január 30-án kedden 17:00-kor. \nIgét hirdet: Szabó Zoltán katolikus plébános
URL:http://tarjan.hu/esemeny/okumenikus-istentisztelet/
LOCATION:Református templom\, Rákóczi F. út 61.\, Tarján\, 2831
CATEGORIES:Önkéntesség
ATTACH;FMTTYPE=image/jpeg:http://tarjan.hu/wp-content/uploads/2024/01/istentisztelet.jpg
ORGANIZER;CN="Tarj%C3%A1ni%20Reform%C3%A1tus%20Egyh%C3%A1zk%C3%B6zs%C3%A9g":MAILTO:bakajg@gmail.com
END:VEVENT
BEGIN:VEVENT
DTSTART;TZID=UTC:20240203T190000
DTEND;TZID=UTC:20240204T050000
DTSTAMP:20260419T200410
CREATED:20240125T081605Z
LAST-MODIFIED:20240125T081943Z
UID:5414-1706986800-1707022800@tarjan.hu
SUMMARY:Svábbál
DESCRIPTION:
URL:http://tarjan.hu/esemeny/svabbal-2/
LOCATION:Tarján Sportcsarnok\, Rákóczi F. út 15.\, Tarján\, 2831\, Magyarország
CATEGORIES:Hagyományőrzés,Szórakozás,Táncos-zenés rendezvény
ATTACH;FMTTYPE=image/jpeg:http://tarjan.hu/wp-content/uploads/2023/12/falutv_flat.jpg
END:VEVENT
BEGIN:VEVENT
DTSTART;TZID=UTC:20240204T150000
DTEND;TZID=UTC:20240204T190000
DTSTAMP:20260419T200410
CREATED:20240125T081552Z
LAST-MODIFIED:20240125T081552Z
UID:5618-1707058800-1707073200@tarjan.hu
SUMMARY:Kórustalálkozó
DESCRIPTION:
URL:http://tarjan.hu/esemeny/korustalalkozo-2/
LOCATION:Tarján Sportcsarnok\, Rákóczi F. út 15.\, Tarján\, 2831\, Magyarország
CATEGORIES:Hagyományőrzés,Önkéntesség,Szórakozás
ATTACH;FMTTYPE=image/jpeg:http://tarjan.hu/wp-content/uploads/2024/01/korustalalkozo.jpg
END:VEVENT
BEGIN:VEVENT
DTSTART;TZID=UTC:20240219T080000
DTEND;TZID=UTC:20240219T170000
DTSTAMP:20260419T200410
CREATED:20240219T092038Z
LAST-MODIFIED:20240219T092038Z
UID:5651-1708329600-1708362000@tarjan.hu
SUMMARY:Programnaptár2024
DESCRIPTION:
URL:http://tarjan.hu/esemeny/programnaptar2024/
CATEGORIES:Hagyományőrzés,Környezetvédelem,Önkéntesség,Sport,Szórakozás,Táncos-zenés rendezvény,Tudomány
ATTACH;FMTTYPE=image/jpeg:http://tarjan.hu/wp-content/uploads/2024/02/programok2024-1old2-scaled.jpg
END:VEVENT
BEGIN:VEVENT
DTSTART;TZID=UTC:20240219T163000
DTEND;TZID=UTC:20240219T173000
DTSTAMP:20260419T200410
CREATED:20240219T092436Z
LAST-MODIFIED:20240219T092530Z
UID:5658-1708360200-1708363800@tarjan.hu
SUMMARY:Kutasd a múltat: Bevezetés a család- és helytörtneti kutatásba
DESCRIPTION:Kedves Jelentkezők\, Érdeklődők!\nA Magyar Nemzeti Levéltár kihelyezett programja a Jókai 6-ban.\nFebruár 19. 16:30-tól.\nKutasd a múltat: Bevezetés a család- és helytörténeti kutatásba\n\n\n\nVárunk mindenkit szeretettel!
URL:http://tarjan.hu/esemeny/kutasd-a-multat-bevezetes-a-csalad-es-helytortneti-kutatasba/
LOCATION:Egyesületek Háza Jókai u. 6\, Jókai út 6.\, Tarján\, 2831
CATEGORIES:Hagyományőrzés,Önkéntesség,Tudomány
ATTACH;FMTTYPE=image/jpeg:http://tarjan.hu/wp-content/uploads/2024/02/leveltari-program.jpg
ORGANIZER;CN="Tarj%C3%A1n%20K%C3%B6zs%C3%A9g%20%C3%96nkorm%C3%A1nyzata":MAILTO:kultur@tarjan.hu
END:VEVENT
BEGIN:VEVENT
DTSTART;TZID=UTC:20240224T150000
DTEND;TZID=UTC:20240224T170000
DTSTAMP:20260419T200410
CREATED:20240125T081501Z
LAST-MODIFIED:20240125T082010Z
UID:5621-1708786800-1708794000@tarjan.hu
SUMMARY:Borverseny
DESCRIPTION:
URL:http://tarjan.hu/esemeny/borverseny/
LOCATION:Közösségi ház/Kultúr\, Rákóczi F. út 32.\, Tarján\, 2831
CATEGORIES:Hagyományőrzés,Önkéntesség,Szórakozás,Tudomány
ATTACH;FMTTYPE=image/jpeg:http://tarjan.hu/wp-content/uploads/2024/01/borverseny.jpg
END:VEVENT
BEGIN:VEVENT
DTSTART;TZID=UTC:20240301T180000
DTEND;TZID=UTC:20240301T193000
DTSTAMP:20260419T200410
CREATED:20240228T190300Z
LAST-MODIFIED:20240229T064124Z
UID:5674-1709316000-1709321400@tarjan.hu
SUMMARY:Rejtő Jenő: Szájon lőtt tigris
DESCRIPTION:Olt Tamás Rejtő Jenős\, sanzonos\, kalandos\, légiós\, fordulatos\, tizennégy karátos estje\, zenékkel és minden bizonnyal! \nHa szeretnéd látni a Nemzeti Színház egy produkcióját és szereted Rejtő Jenőt….akkor Neked házhoz hozzuk a kultúrát!  \nNe feledjétek\, 2024.03.01-én\, pénteken 6-kor “Szájon lőtt tigris” a Közösségi Házban!  \nVárunk mindenkit szeretettel!A részvétel mint mindig\, ingyenes\, az élmény megfizethetetlen
URL:http://tarjan.hu/esemeny/rejto-jeno-szajon-lott-tigris/
LOCATION:Közösségi ház/Kultúr\, Rákóczi F. út 32.\, Tarján\, 2831
CATEGORIES:Hagyományőrzés,Önkéntesség,Szórakozás
ATTACH;FMTTYPE=image/jpeg:http://tarjan.hu/wp-content/uploads/2024/02/tigris.jpg
ORGANIZER;CN="Tarj%C3%A1n%20K%C3%B6zs%C3%A9g%20%C3%96nkorm%C3%A1nyzata":MAILTO:kultur@tarjan.hu
END:VEVENT
END:VCALENDAR