BEGIN:VCALENDAR
VERSION:2.0
PRODID:-//Tarján - ECPv5.5.0.1//NONSGML v1.0//EN
CALSCALE:GREGORIAN
METHOD:PUBLISH
X-WR-CALNAME:Tarján
X-ORIGINAL-URL:https://tarjan.hu
X-WR-CALDESC:Events for Tarján
BEGIN:VTIMEZONE
TZID:UTC
BEGIN:STANDARD
TZOFFSETFROM:+0000
TZOFFSETTO:+0000
TZNAME:UTC
DTSTART:20240101T000000
END:STANDARD
END:VTIMEZONE
BEGIN:VEVENT
DTSTART;TZID=UTC:20241207T160000
DTEND;TZID=UTC:20241207T200000
DTSTAMP:20260419T125637
CREATED:20241203T134929Z
LAST-MODIFIED:20241203T135024Z
UID:6621-1733587200-1733601600@tarjan.hu
SUMMARY:Óvodások ünnepi műsora
DESCRIPTION:Találkozzunk szombaton óvodánk  ünnepi műsorán katolikus templomunkban\, majd a tájház udvarán az adventi vásáron!
URL:https://tarjan.hu/esemeny/6621/
LOCATION:Katolikus Templom\, Rákóczi F. út 12.\, Tarján\, 2831\, Magyarország
CATEGORIES:Hagyományőrzés,Önkéntesség,Szórakozás
ATTACH;FMTTYPE=image/jpeg:https://tarjan.hu/wp-content/uploads/2024/12/468981648_912324297704537_2396636850489518224_n.jpg
ORGANIZER;CN="Tarj%C3%A1ni%20N%C3%A9met%20Nemzetis%C3%A9gi%20%C3%93voda":MAILTO:tarjanovoda@index.hu
END:VEVENT
END:VCALENDAR