BEGIN:VCALENDAR
VERSION:2.0
PRODID:-//Tarján - ECPv5.5.0.1//NONSGML v1.0//EN
CALSCALE:GREGORIAN
METHOD:PUBLISH
X-WR-CALNAME:Tarján
X-ORIGINAL-URL:https://tarjan.hu
X-WR-CALDESC:Events for Tarján
BEGIN:VTIMEZONE
TZID:UTC
BEGIN:STANDARD
TZOFFSETFROM:+0000
TZOFFSETTO:+0000
TZNAME:UTC
DTSTART:20210101T000000
END:STANDARD
END:VTIMEZONE
BEGIN:VEVENT
DTSTART;TZID=UTC:20211204T160000
DTEND;TZID=UTC:20211204T190000
DTSTAMP:20260420T205541
CREATED:20211130T145006Z
LAST-MODIFIED:20211130T145006Z
UID:2226-1638633600-1638644400@tarjan.hu
SUMMARY:Ádvent a körpincéknél
DESCRIPTION:Hangulatos\, hagyományteremtő ádventi összejövetel a körpincéknél. \nZenél: Herczog Ricsi \nForralt bor\, tea és sült kolbász várja a kedves érdeklődőket. \nBögrét\, poharat mindenki hozzon magával. A helyszínen repohár bérlési lehetőség lesz. \nBacchus Bortársaság
URL:https://tarjan.hu/esemeny/advent-a-korpinceknel/
LOCATION:Körpincék Tarján\, Tarján\, Bicskei út\, Tarján\, 2831\, Magyarország
CATEGORIES:Hagyományőrzés,Szórakozás,Táncos-zenés rendezvény
ATTACH;FMTTYPE=image/jpeg:https://tarjan.hu/wp-content/uploads/2021/11/pince.jpg
END:VEVENT
END:VCALENDAR