BEGIN:VCALENDAR
VERSION:2.0
PRODID:-//Tarján - ECPv5.5.0.1//NONSGML v1.0//EN
CALSCALE:GREGORIAN
METHOD:PUBLISH
X-WR-CALNAME:Tarján
X-ORIGINAL-URL:https://tarjan.hu
X-WR-CALDESC:Events for Tarján
BEGIN:VTIMEZONE
TZID:UTC
BEGIN:STANDARD
TZOFFSETFROM:+0000
TZOFFSETTO:+0000
TZNAME:UTC
DTSTART:20210101T000000
END:STANDARD
END:VTIMEZONE
BEGIN:VEVENT
DTSTART;TZID=UTC:20211111T170000
DTEND;TZID=UTC:20211111T183000
DTSTAMP:20260420T210306
CREATED:20211108T120245Z
LAST-MODIFIED:20211108T120245Z
UID:2198-1636650000-1636655400@tarjan.hu
SUMMARY:Márton-Napi lampionos felvonulás
DESCRIPTION:
URL:https://tarjan.hu/esemeny/marton-napi-lampionos-felvonulas/
LOCATION:Tarján Óvoda\, Rákóczi F. út 15.\, Tarján\, 2831\, Magyarország
CATEGORIES:Hagyományőrzés,Szórakozás
ATTACH;FMTTYPE=image/jpeg:https://tarjan.hu/wp-content/uploads/2021/11/liba-scaled.jpg
ORGANIZER;CN="Tarj%C3%A1ni%20N%C3%A9met%20Nemzetis%C3%A9gi%20%C3%93voda":MAILTO:tarjanovoda@index.hu
END:VEVENT
END:VCALENDAR