BEGIN:VCALENDAR
VERSION:2.0
PRODID:-//Tarján - ECPv5.5.0.1//NONSGML v1.0//EN
CALSCALE:GREGORIAN
METHOD:PUBLISH
X-WR-CALNAME:Tarján
X-ORIGINAL-URL:https://tarjan.hu
X-WR-CALDESC:Events for Tarján
BEGIN:VTIMEZONE
TZID:UTC
BEGIN:STANDARD
TZOFFSETFROM:+0000
TZOFFSETTO:+0000
TZNAME:UTC
DTSTART:20240101T000000
END:STANDARD
END:VTIMEZONE
BEGIN:VEVENT
DTSTART;TZID=UTC:20240914T150000
DTEND;TZID=UTC:20240914T200000
DTSTAMP:20260421T113137
CREATED:20240903T124213Z
LAST-MODIFIED:20240912T111300Z
UID:6292-1726326000-1726344000@tarjan.hu
SUMMARY:Szüreti felvonulás ELMARAD!
DESCRIPTION:ELMARAD! \n 
URL:https://tarjan.hu/esemeny/szureti-felvonulas-3/
LOCATION:Körpincék Tarján\, Tarján\, Bicskei út\, Tarján\, 2831\, Magyarország
CATEGORIES:Hagyományőrzés,Önkéntesség,Szórakozás,Táncos-zenés rendezvény
ATTACH;FMTTYPE=image/png:https://tarjan.hu/wp-content/uploads/2024/09/szuretiplakat2024-1.png
ORGANIZER;CN="Tarj%C3%A1n%20K%C3%B6zs%C3%A9g%20%C3%96nkorm%C3%A1nyzata":MAILTO:kultur@tarjan.hu
END:VEVENT
END:VCALENDAR